BEGIN:VCALENDAR
VERSION:2.0
PRODID:-//Velpker Sportverein - ECPv6.15.20//NONSGML v1.0//EN
CALSCALE:GREGORIAN
METHOD:PUBLISH
X-ORIGINAL-URL:https://velpker-sv.de
X-WR-CALDESC:Veranstaltungen für Velpker Sportverein
REFRESH-INTERVAL;VALUE=DURATION:PT1H
X-Robots-Tag:noindex
X-PUBLISHED-TTL:PT1H
BEGIN:VTIMEZONE
TZID:UTC
BEGIN:STANDARD
TZOFFSETFROM:+0000
TZOFFSETTO:+0000
TZNAME:UTC
DTSTART:20240101T000000
END:STANDARD
END:VTIMEZONE
BEGIN:VEVENT
DTSTART;TZID=UTC:20251209T173000
DTEND;TZID=UTC:20251209T210000
DTSTAMP:20260419T132742
CREATED:20251008T153158Z
LAST-MODIFIED:20251008T153158Z
UID:2171-1765301400-1765314000@velpker-sv.de
SUMMARY:Veranstaltung Wirbelsäule Sparte
DESCRIPTION:
URL:https://velpker-sv.de/event/veranstaltung-wirbelsaeule-sparte/
END:VEVENT
BEGIN:VEVENT
DTSTART;TZID=UTC:20251211T090000
DTEND;TZID=UTC:20251211T113000
DTSTAMP:20260419T132742
CREATED:20251008T152819Z
LAST-MODIFIED:20251008T152819Z
UID:2169-1765443600-1765452600@velpker-sv.de
SUMMARY:Frühstück Gruppe
DESCRIPTION:
URL:https://velpker-sv.de/event/fruehstueck-gruppe/
END:VEVENT
BEGIN:VEVENT
DTSTART;TZID=UTC:20251212T170000
DTEND;TZID=UTC:20251212T233000
DTSTAMP:20260419T132742
CREATED:20250817T150601Z
LAST-MODIFIED:20250817T150601Z
UID:2018-1765558800-1765582200@velpker-sv.de
SUMMARY:Ligaspiel
DESCRIPTION:
URL:https://velpker-sv.de/event/ligaspiel-6/
LOCATION:Vereinsheim\, Germany
CATEGORIES:Sportheim
END:VEVENT
BEGIN:VEVENT
DTSTART;TZID=UTC:20251219T163000
DTEND;TZID=UTC:20251219T233000
DTSTAMP:20260419T132742
CREATED:20250817T152551Z
LAST-MODIFIED:20250817T152551Z
UID:2050-1766161800-1766187000@velpker-sv.de
SUMMARY:Flightnight No.12
DESCRIPTION:
URL:https://velpker-sv.de/event/flightnight-no-12/
LOCATION:Vereinsheim\, Germany
CATEGORIES:Sportheim
END:VEVENT
BEGIN:VEVENT
DTSTART;VALUE=DATE:20251220
DTEND;VALUE=DATE:20251221
DTSTAMP:20260419T132742
CREATED:20251031T070217Z
LAST-MODIFIED:20251031T070217Z
UID:2194-1766188800-1766275199@velpker-sv.de
SUMMARY:Privatveranstaltung
DESCRIPTION:
URL:https://velpker-sv.de/event/privatveranstaltung-5/
LOCATION:Vereinsheim\, Germany
CATEGORIES:Sportheim
END:VEVENT
END:VCALENDAR